BEGIN:VCALENDAR
VERSION:2.0
PRODID:-//Beverly Main Streets - ECPv6.15.20//NONSGML v1.0//EN
CALSCALE:GREGORIAN
METHOD:PUBLISH
X-ORIGINAL-URL:https://bevmain.org
X-WR-CALDESC:Events for Beverly Main Streets
REFRESH-INTERVAL;VALUE=DURATION:PT1H
X-Robots-Tag:noindex
X-PUBLISHED-TTL:PT1H
BEGIN:VTIMEZONE
TZID:America/New_York
BEGIN:DAYLIGHT
TZOFFSETFROM:-0500
TZOFFSETTO:-0400
TZNAME:EDT
DTSTART:20250309T070000
END:DAYLIGHT
BEGIN:STANDARD
TZOFFSETFROM:-0400
TZOFFSETTO:-0500
TZNAME:EST
DTSTART:20251102T060000
END:STANDARD
BEGIN:DAYLIGHT
TZOFFSETFROM:-0500
TZOFFSETTO:-0400
TZNAME:EDT
DTSTART:20260308T070000
END:DAYLIGHT
BEGIN:STANDARD
TZOFFSETFROM:-0400
TZOFFSETTO:-0500
TZNAME:EST
DTSTART:20261101T060000
END:STANDARD
BEGIN:DAYLIGHT
TZOFFSETFROM:-0500
TZOFFSETTO:-0400
TZNAME:EDT
DTSTART:20270314T070000
END:DAYLIGHT
BEGIN:STANDARD
TZOFFSETFROM:-0400
TZOFFSETTO:-0500
TZNAME:EST
DTSTART:20271107T060000
END:STANDARD
END:VTIMEZONE
BEGIN:VEVENT
DTSTART;TZID=America/New_York:20260329T160000
DTEND;TZID=America/New_York:20260329T180000
DTSTAMP:20260419T200320
CREATED:20260223T143759Z
LAST-MODIFIED:20260223T143759Z
UID:10038038-1774800000-1774807200@bevmain.org
SUMMARY:CSEM Presents Baroque Connections: Friends and Rivals with New England Baroque
DESCRIPTION:The Cambridge Society for Early Music presents the acclaimed players of New England Baroque for an afternoon of Baroque music\, featuring the music of Handel\, Telemann\, and more! \nNew England Baroque— a period ensemble of some of Boston’s most dynamic players— brings to life the music of a circle of baroque composers living in or strongly influenced by the booming musical culture of 17th-century Venice in Friends and Rivals. This program explores these composers’ influences and relationships through their music\, especially highlighting the fond long-distance friendship between George Frideric Handel and Georg Philipp Telemann\, and the competitive rivalry between Handel and Nicola Porpora. Come see Baroque Connections in Cambridge (3/27)\, Weston (3/28)\, and Beverly (3/29)!
URL:https://bevmain.org/event/csem-presents-baroque-connections-friends-and-rivals-with-new-england-baroque/
LOCATION:St. John’s Episcopal\, 705 Hale St.\, Beverly\, 01915\, United States
CATEGORIES:Music/Concert
ATTACH;FMTTYPE=image/jpeg:https://bevmain.org/wp-content/uploads/2026/02/CSEM-327-29-Baroque-Connections-Banner.jpg
ORGANIZER;CN="Sarah Vandewalle":MAILTO:sarah@csem.org
END:VEVENT
END:VCALENDAR