BEGIN:VCALENDAR
VERSION:2.0
PRODID:-//Beverly Main Streets - ECPv6.15.20//NONSGML v1.0//EN
CALSCALE:GREGORIAN
METHOD:PUBLISH
X-WR-CALNAME:Beverly Main Streets
X-ORIGINAL-URL:https://bevmain.org
X-WR-CALDESC:Events for Beverly Main Streets
REFRESH-INTERVAL;VALUE=DURATION:PT1H
X-Robots-Tag:noindex
X-PUBLISHED-TTL:PT1H
BEGIN:VTIMEZONE
TZID:America/New_York
BEGIN:DAYLIGHT
TZOFFSETFROM:-0500
TZOFFSETTO:-0400
TZNAME:EDT
DTSTART:20250309T070000
END:DAYLIGHT
BEGIN:STANDARD
TZOFFSETFROM:-0400
TZOFFSETTO:-0500
TZNAME:EST
DTSTART:20251102T060000
END:STANDARD
BEGIN:DAYLIGHT
TZOFFSETFROM:-0500
TZOFFSETTO:-0400
TZNAME:EDT
DTSTART:20260308T070000
END:DAYLIGHT
BEGIN:STANDARD
TZOFFSETFROM:-0400
TZOFFSETTO:-0500
TZNAME:EST
DTSTART:20261101T060000
END:STANDARD
BEGIN:DAYLIGHT
TZOFFSETFROM:-0500
TZOFFSETTO:-0400
TZNAME:EDT
DTSTART:20270314T070000
END:DAYLIGHT
BEGIN:STANDARD
TZOFFSETFROM:-0400
TZOFFSETTO:-0500
TZNAME:EST
DTSTART:20271107T060000
END:STANDARD
END:VTIMEZONE
BEGIN:VEVENT
DTSTART;TZID=America/New_York:20260528T183000
DTEND;TZID=America/New_York:20260528T200000
DTSTAMP:20260423T081228
CREATED:20260422T185131Z
LAST-MODIFIED:20260422T185131Z
UID:10039202-1779993000-1779998400@bevmain.org
SUMMARY:Revolutionary Lives: A Walking Tour of Central Cemetery
DESCRIPTION:Step into the past and discover the stories etched in stone at Beverly’s historic Central Cemetery. Join Historic Beverly for a guided walking tour exploring the lives of local men and women who experienced and helped shape the American Revolution. \nTucked within this remarkable burial ground are the graves of soldiers\, patriots\, privateers\, and civilians whose lives were intertwined with the struggle for independence. From battlefield service to the challenges faced on the home front\, this tour brings to light the human stories behind the Revolution and examines how national events unfolded in our own community. \nLed by knowledgeable guides\, this engaging outdoor program invites participants to consider how memory\, commemoration\, and local identity have evolved over time. Comfortable walking shoes are recommended.
URL:https://bevmain.org/event/revolutionary-lives-a-walking-tour-of-central-cemetery/
LOCATION:Central Cemetery\, Butman Street Entrance\, Beverly\, MA\, 01915\, United States
CATEGORIES:History
ATTACH;FMTTYPE=image/png:https://bevmain.org/wp-content/uploads/2026/04/Revolutionary-Lives-Cemetery-Walking-Tour.png
ORGANIZER;CN="Historic Beverly":MAILTO:events@historicbeverly.net
END:VEVENT
END:VCALENDAR