BEGIN:VCALENDAR
VERSION:2.0
PRODID:-//Beverly Main Streets - ECPv6.15.20//NONSGML v1.0//EN
CALSCALE:GREGORIAN
METHOD:PUBLISH
X-WR-CALNAME:Beverly Main Streets
X-ORIGINAL-URL:https://bevmain.org
X-WR-CALDESC:Events for Beverly Main Streets
REFRESH-INTERVAL;VALUE=DURATION:PT1H
X-Robots-Tag:noindex
X-PUBLISHED-TTL:PT1H
BEGIN:VTIMEZONE
TZID:America/New_York
BEGIN:DAYLIGHT
TZOFFSETFROM:-0500
TZOFFSETTO:-0400
TZNAME:EDT
DTSTART:20210314T070000
END:DAYLIGHT
BEGIN:STANDARD
TZOFFSETFROM:-0400
TZOFFSETTO:-0500
TZNAME:EST
DTSTART:20211107T060000
END:STANDARD
BEGIN:DAYLIGHT
TZOFFSETFROM:-0500
TZOFFSETTO:-0400
TZNAME:EDT
DTSTART:20220313T070000
END:DAYLIGHT
BEGIN:STANDARD
TZOFFSETFROM:-0400
TZOFFSETTO:-0500
TZNAME:EST
DTSTART:20221106T060000
END:STANDARD
BEGIN:DAYLIGHT
TZOFFSETFROM:-0500
TZOFFSETTO:-0400
TZNAME:EDT
DTSTART:20230312T070000
END:DAYLIGHT
BEGIN:STANDARD
TZOFFSETFROM:-0400
TZOFFSETTO:-0500
TZNAME:EST
DTSTART:20231105T060000
END:STANDARD
BEGIN:DAYLIGHT
TZOFFSETFROM:-0500
TZOFFSETTO:-0400
TZNAME:EDT
DTSTART:20240310T070000
END:DAYLIGHT
BEGIN:STANDARD
TZOFFSETFROM:-0400
TZOFFSETTO:-0500
TZNAME:EST
DTSTART:20241103T060000
END:STANDARD
END:VTIMEZONE
BEGIN:VEVENT
DTSTART;TZID=America/New_York:20231103T110000
DTEND;TZID=America/New_York:20231103T130000
DTSTAMP:20260422T060243
CREATED:20231010T142248Z
LAST-MODIFIED:20231010T142248Z
UID:10019723-1699009200-1699016400@bevmain.org
SUMMARY:Environmental Justice Exposition at Endicott College
DESCRIPTION:Join the Sustainability & DEIB Office for an exposition of environmental justice initiatives in the area. From 11am-12pm\, local campaign groups\, faculty/staff\, students\, and other higher ed institutions will present/table on initiatives and actions they are doing to fight against environmental injustices. From 12pm-1pm\, there will be complimentary lunch and a presentation from our keynote speaker\, Dr. Marcos Luna. He is a professor of Environmental Justice and GIS at Salem State. He is also a member of the Executive Office of Energy and Environmental Affairs’ Environmental Justice Council\, and a stakeholder of the campaign group\, Green Roots Inc. based out of Chelsea. He has knowledge and experience in a wide range of topics under the discipline of environmental justice and we are honored to have him come to Endicott.
URL:https://bevmain.org/event/environmental-justice-exposition-at-endicott-college/
LOCATION:Endicott College\, 376 Hale St\, Beverly\, MA\, 01915\, United States
CATEGORIES:Free
GEO:42.5538885;-70.8492036
X-APPLE-STRUCTURED-LOCATION;VALUE=URI;X-ADDRESS=Endicott College 376 Hale St Beverly MA 01915 United States;X-APPLE-RADIUS=500;X-TITLE=376 Hale St:geo:-70.8492036,42.5538885
END:VEVENT
BEGIN:VEVENT
DTSTART;TZID=America/New_York:20230426T110000
DTEND;TZID=America/New_York:20230426T150000
DTSTAMP:20260422T060243
CREATED:20230406T164303Z
LAST-MODIFIED:20230406T164303Z
UID:10017839-1682506800-1682521200@bevmain.org
SUMMARY:Second Annual “Art for a Cause” supporting World Central Kitchen
DESCRIPTION:Second Annual “Art for a Cause” supporting World Central Kitchen\nWednesday\, April 26\, 2023\n11:00 a.m. – 3:00 p.m. \nSilent Auction: April 17 – 26th closes at 3:00 p.m. \nManninen Center for the Arts at Endicott College \n“Art for a Cause” is an annual fundraiser sponsored by the School of Visual and Performing Arts at Endicott College. This year we will raise funds for the World Central Kitchen\, a nonprofit organization that provides meals in the wake of natural disasters. The event will occur on Wednesday\, April 26th\, from 11 a.m. to 3 p.m. at the Manninen Center for the Arts at Endicott College. During the event\, there will be a student and faculty art sale where attendees can purchase art pieces created by our talented artists in the Endicott community. Additionally\, there will be an arts faculty Silent Auction\, where attendees can bid on items and services donated by faculty members. The event promises to be an excellent opportunity to support a wonderful cause while shopping for beautiful works of art for your home or office. \nFor more information on what the World Central Kitchen is currently doing around the world check out this link. https://wck.org/
URL:https://bevmain.org/event/second-annual-art-for-a-cause-supporting-world-central-kitchen/
LOCATION:Endicott College\, 376 Hale St\, Beverly\, MA\, 01915\, United States
CATEGORIES:Community Events,Festival,Free,Shopping
ATTACH;FMTTYPE=image/png:https://bevmain.org/wp-content/uploads/2023/04/Art-for-a-Cause-Eventbrite-image.png
GEO:42.5538885;-70.8492036
X-APPLE-STRUCTURED-LOCATION;VALUE=URI;X-ADDRESS=Endicott College 376 Hale St Beverly MA 01915 United States;X-APPLE-RADIUS=500;X-TITLE=376 Hale St:geo:-70.8492036,42.5538885
END:VEVENT
BEGIN:VEVENT
DTSTART;TZID=America/New_York:20230406T173000
DTEND;TZID=America/New_York:20230406T210000
DTSTAMP:20260422T060243
CREATED:20230404T171638Z
LAST-MODIFIED:20230404T171638Z
UID:10017838-1680802200-1680814800@bevmain.org
SUMMARY:LOVING:  Screening and Discussion with Producer Sarah Green
DESCRIPTION:LOVING: Screening and Discussion with Producer Sarah Green\nThursday\, April 6\, 2023\n5:30-9:00 p.m.\nKlebanoff Auditorium at Endicott College \nJoin us for a screening of the critically-acclaimed 2016 film\, LOVING\, featuring a discussion with one of the film’s producers\, Sarah Green.\nLOVING follows the true story of Richard and Mildred Loving\, whose 1967 Supreme Court Case invalidated Virginia state law that prohibited interracial marriage.\nHosted by the School of Social Sciences\, Communication and Humanities\, The Center for Belonging and Inclusion and Endicott College Oral History
URL:https://bevmain.org/event/loving-screening-and-discussion-with-producer-sarah-green/
LOCATION:Endicott College\, 376 Hale St\, Beverly\, MA\, 01915\, United States
CATEGORIES:Community Events,Free
ATTACH;FMTTYPE=image/png:https://bevmain.org/wp-content/uploads/2023/04/Loving-Flyer-With-QR-Code1.png
ORGANIZER;CN="Center for Inclusion and Belonging":MAILTO:gcantor@endicott.edu
GEO:42.5538885;-70.8492036
X-APPLE-STRUCTURED-LOCATION;VALUE=URI;X-ADDRESS=Endicott College 376 Hale St Beverly MA 01915 United States;X-APPLE-RADIUS=500;X-TITLE=376 Hale St:geo:-70.8492036,42.5538885
END:VEVENT
BEGIN:VEVENT
DTSTART;TZID=America/New_York:20230309T160000
DTEND;TZID=America/New_York:20230309T180000
DTSTAMP:20260422T060243
CREATED:20230301T192634Z
LAST-MODIFIED:20230301T192634Z
UID:10013234-1678377600-1678384800@bevmain.org
SUMMARY:Gallery Reception - The Fantastic Show: An Honored Selection of Arts Adjunct Faculty
DESCRIPTION:The Fantastic Show: An Honored Selection of Arts Adjunct Faculty\nFriday\, February 24–Tuesday\, April 18\nHeftler Visiting Artist Gallery\nFree and open to the public \nReception: Thursday\, March 9 | 4–6 p.m. | Carol Grillo Gallery \nThe School of Visual & Performing Arts is proud to honor the remarkable adjunct professors who have tirelessly supported\, inspired\, and mentored students in their artistic pursuits. Exhibitors in this show have been peer-nominated for their commitment to professional artistic practice\, a talented skillset\, and a dedication to education.
URL:https://bevmain.org/event/gallery-reception-the-fantastic-show-an-honored-selection-of-arts-adjunct-faculty/
LOCATION:Endicott College\, 376 Hale St\, Beverly\, MA\, 01915\, United States
ATTACH;FMTTYPE=image/jpeg:https://bevmain.org/wp-content/uploads/2023/03/Adjunct_PlaceHolder_Image-tiny.jpg
ORGANIZER;CN="Manninen Center for the Arts":MAILTO:lcasino@endicott.edu
GEO:42.5538885;-70.8492036
X-APPLE-STRUCTURED-LOCATION;VALUE=URI;X-ADDRESS=Endicott College 376 Hale St Beverly MA 01915 United States;X-APPLE-RADIUS=500;X-TITLE=376 Hale St:geo:-70.8492036,42.5538885
END:VEVENT
BEGIN:VEVENT
DTSTART;TZID=America/New_York:20230127T190000
DTEND;TZID=America/New_York:20230127T213000
DTSTAMP:20260422T060243
CREATED:20230106T162157Z
LAST-MODIFIED:20230106T162157Z
UID:10012895-1674846000-1674855000@bevmain.org
SUMMARY:Handel and Haydn Society Chamber Concert at Endicott College
DESCRIPTION:Handel and Haydn Society Chamber Concert\nFriday\, January 27 | 7 p.m.\nRose Theater \nGeneral Admission: $30\nSeniors\, EC Faculty/Staff\, and students of other institutions: $10\nGull Card Students: Free \nBoston’s acclaimed Handel and Haydn Society is coming to Endicott College! Don’t miss this chamber concert featuring H+H Principal Players. Marvel\, as the period instrument virtuosi of H+H performs a program of baroque trio sonatas by Henry Purcell\, J.S. Bach\, and George Frideric Handel\, revealing the music’s original freshness and vitality and creativity that inspires all ages. \nH+H has been captivating audiences for 208 consecutive seasons (the most of any performing arts organization in the United States)\, speaking to its singular success at converting new audiences to this extraordinary music\, generation after generation.
URL:https://bevmain.org/event/handel-and-haydn-society-chamber-concert-at-endicott-college/
LOCATION:Endicott College\, 376 Hale St\, Beverly\, MA\, 01915\, United States
ATTACH;FMTTYPE=image/png:https://bevmain.org/wp-content/uploads/2023/01/Handel-and-Haydn-sm.png
ORGANIZER;CN="Manninen Center for the Arts":MAILTO:lcasino@endicott.edu
GEO:42.5538885;-70.8492036
X-APPLE-STRUCTURED-LOCATION;VALUE=URI;X-ADDRESS=Endicott College 376 Hale St Beverly MA 01915 United States;X-APPLE-RADIUS=500;X-TITLE=376 Hale St:geo:-70.8492036,42.5538885
END:VEVENT
BEGIN:VEVENT
DTSTART;TZID=America/New_York:20230127T120000
DTEND;TZID=America/New_York:20230127T124500
DTSTAMP:20260422T060243
CREATED:20230124T194350Z
LAST-MODIFIED:20230124T194350Z
UID:10013165-1674820800-1674823500@bevmain.org
SUMMARY:Fridays in the Rose–Ezekiel’s Wheels Klezmer Band
DESCRIPTION:Fridays in the Rose–Ezekiel’s Wheels Klezmer Band\nFriday\, January 27 | Noon–12:45 p.m.\nRose Theater \nReserve your FREE ticket \nIn remembrance of World Holocaust Day\, the Walter J. Manninen Center for the Arts and the Jewish Community at Endicott College celebrate a vibrant staple of Jewish culture: Klezmer music! Hear the 45-minute concert\, stop by the information table\, and grab a light lunch. Internationally acclaimed Ezekiel’s Wheels Klezmer Band brings passion\, virtuosity\, and contagious energy to every performance. Join us! \n*Co-sponsored by The Jewish Community at Endicott College\, and the Center for Belonging and Inclusion.
URL:https://bevmain.org/event/fridays-in-the-rose-ezekiels-wheels-klezmer-band/
LOCATION:Endicott College\, 376 Hale St\, Beverly\, MA\, 01915\, United States
ATTACH;FMTTYPE=image/jpeg:https://bevmain.org/wp-content/uploads/2023/01/Ezekials-Wheel-Klezmer-Photo-2-scaled.jpg
ORGANIZER;CN="Manninen Center for the Arts":MAILTO:lcasino@endicott.edu
GEO:42.5538885;-70.8492036
X-APPLE-STRUCTURED-LOCATION;VALUE=URI;X-ADDRESS=Endicott College 376 Hale St Beverly MA 01915 United States;X-APPLE-RADIUS=500;X-TITLE=376 Hale St:geo:-70.8492036,42.5538885
END:VEVENT
BEGIN:VEVENT
DTSTART;TZID=America/New_York:20221015T080000
DTEND;TZID=America/New_York:20221015T140000
DTSTAMP:20260422T060243
CREATED:20221003T164407Z
LAST-MODIFIED:20221003T164534Z
UID:10012875-1665820800-1665842400@bevmain.org
SUMMARY:Elevate 2022 Women's Conference
DESCRIPTION:Elevate 2022 is brought you by the Colin & Erika Angle Center for Entrepreneurship at Endicott College and is focused on developing the next generation of entrepreneurs across all sectors of business. Take part is sessions led by those who have founded successful companies along with rounding out your skills in all things entrepreneurial \nDate: Saturday\, October 15\, 2022 \nLocation: Endicott College\, Curtis L. Gerrish School of Business \nWho Should Attend: Students along with anybody entrepreneurially minded. \n\n\n\n\nRegistration: 8:00 – 8:50 AM
URL:https://bevmain.org/event/elevate-2022-womens-conference/
LOCATION:Endicott College\, 376 Hale St\, Beverly\, MA\, 01915\, United States
ATTACH;FMTTYPE=image/png:https://bevmain.org/wp-content/uploads/2022/10/elevate.png
GEO:42.5538885;-70.8492036
X-APPLE-STRUCTURED-LOCATION;VALUE=URI;X-ADDRESS=Endicott College 376 Hale St Beverly MA 01915 United States;X-APPLE-RADIUS=500;X-TITLE=376 Hale St:geo:-70.8492036,42.5538885
END:VEVENT
END:VCALENDAR