BEGIN:VCALENDAR
VERSION:2.0
PRODID:-//Beverly Main Streets - ECPv6.15.20//NONSGML v1.0//EN
CALSCALE:GREGORIAN
METHOD:PUBLISH
X-ORIGINAL-URL:https://bevmain.org
X-WR-CALDESC:Events for Beverly Main Streets
REFRESH-INTERVAL;VALUE=DURATION:PT1H
X-Robots-Tag:noindex
X-PUBLISHED-TTL:PT1H
BEGIN:VTIMEZONE
TZID:America/New_York
BEGIN:DAYLIGHT
TZOFFSETFROM:-0500
TZOFFSETTO:-0400
TZNAME:EDT
DTSTART:20220313T070000
END:DAYLIGHT
BEGIN:STANDARD
TZOFFSETFROM:-0400
TZOFFSETTO:-0500
TZNAME:EST
DTSTART:20221106T060000
END:STANDARD
BEGIN:DAYLIGHT
TZOFFSETFROM:-0500
TZOFFSETTO:-0400
TZNAME:EDT
DTSTART:20230312T070000
END:DAYLIGHT
BEGIN:STANDARD
TZOFFSETFROM:-0400
TZOFFSETTO:-0500
TZNAME:EST
DTSTART:20231105T060000
END:STANDARD
BEGIN:DAYLIGHT
TZOFFSETFROM:-0500
TZOFFSETTO:-0400
TZNAME:EDT
DTSTART:20240310T070000
END:DAYLIGHT
BEGIN:STANDARD
TZOFFSETFROM:-0400
TZOFFSETTO:-0500
TZNAME:EST
DTSTART:20241103T060000
END:STANDARD
BEGIN:DAYLIGHT
TZOFFSETFROM:-0500
TZOFFSETTO:-0400
TZNAME:EDT
DTSTART:20250309T070000
END:DAYLIGHT
BEGIN:STANDARD
TZOFFSETFROM:-0400
TZOFFSETTO:-0500
TZNAME:EST
DTSTART:20251102T060000
END:STANDARD
END:VTIMEZONE
BEGIN:VEVENT
DTSTART;TZID=America/New_York:20240202T180000
DTEND;TZID=America/New_York:20240202T203000
DTSTAMP:20260422T195618
CREATED:20240130T175808Z
LAST-MODIFIED:20240130T175808Z
UID:10020565-1706896800-1706905800@bevmain.org
SUMMARY:Parents' Night Out at the First Baptist Church in Beverly!
DESCRIPTION:Drop your kids off for a FREE night of fun\, dinner & art/music with caregivers from 6:00-8:30 pm at the First Baptist Church in Beverly located at 221 Cabot Street\, Beverly\, MA 01915. \n*Volunteers will engage the youth in activities not unlike a progressive-minded Vacation Bible School.\n*Parents/Caregivers are encouraged to grab dinner\, meet friends\, run errands\, the possibilities are endless!\n*Everyone has a happy and fulfilling evening and feels renewed :)!\n*PNO is generally for children age 2 and above BUT we can often accommodate younger friends if we have advance notice; email jflowers@fbcbeverly.org if you are interested in dropping off a child younger than the age of 2. \nPNO groups run through Middle School age; high school students are often in attendance as assistants. \nThere is no need to pre-register for PNO; when you arrive for drop-off\, you will sign your child in and\, if it’s your child(ren)’s first time attending with us\, you will be asked to fill out some medical information and permission form paperwork for them. If you have questions or would like more information ahead of time\, feel free to email jflowers@fbcbeverly.org.
URL:https://bevmain.org/event/parents-night-out-at-the-first-baptist-church-in-beverly/
LOCATION:First Baptist Church in Beverly\, 221 Cabot Street\, Beverly\, MA\, 01915\, United States
CATEGORIES:Community Events,Free,Kids
ATTACH;FMTTYPE=image/png:https://bevmain.org/wp-content/uploads/2024/01/Blue-and-White-Modern-Parents-Night-Out-Flyer-8.png
ORGANIZER;CN="First Baptist Church in Beverly":MAILTO:bulletin@fbcbeverly.org
GEO:42.5484488;-70.8782342
X-APPLE-STRUCTURED-LOCATION;VALUE=URI;X-ADDRESS=First Baptist Church in Beverly 221 Cabot Street Beverly MA 01915 United States;X-APPLE-RADIUS=500;X-TITLE=221 Cabot Street:geo:-70.8782342,42.5484488
END:VEVENT
BEGIN:VEVENT
DTSTART;TZID=America/New_York:20231209T153000
DTEND;TZID=America/New_York:20231209T153000
DTSTAMP:20260422T195618
CREATED:20231121T142644Z
LAST-MODIFIED:20231121T142644Z
UID:10020145-1702135800-1702135800@bevmain.org
SUMMARY:First Baptist Church in Beverly's 2023 Holiday Fair!
DESCRIPTION:The LeeVees at The First Baptist Church in Beverly–12/9/23 at 3:30 pm \nHOSTED JOINTLY BY THE FIRST BAPTIST CHURCH IN BEVERLY and TEMPLE B’NAI ABRAHAM \nIt’s a Hanukkah Party for All!! Join us for an awesome in-person event by The LeeVees! The LeeVees are Guster’s Adam Gardner\, The Zambonis Dave Schneider\, Dan Saks\, Shawn Fogel and Tim Walsh. Get ready to hear original Hanukkah songs from their critically acclaimed Warner Brothers release entitled\, “Hanukkah Rocks.” The band will\, of course\, throw in a few Guster covers\, too. It all happens at the First Baptist Church in Beverly located at 221 Cabot Street\, Beverly\, MA\, USA. Where else would you be able to hear a band of nice Jewish guys sing at a Baptist church? Mark your calendars for December 9\, 2023 at 3:30 pm. Bring the family! Kick off the holiday season with this fun musical celebration! Don’t miss out on this chance to experience The LeeVees live! Grab your friends and get ready to have a blast. See you there! \nThe LeeVees will be featured on NPR’s Tiny Desk concert series on December 7. They have toured with a variety of bands including Guster and the Barenaked Ladies\, and they have played with the Boston Pops. \nGeneral admission tickets for adults are $20 in advance\, $18 for seniors and teens (ages 10-18); kids under 10 are free! Capacity is limited\, so get your tickets in advance before they sell out! Arrive as early as 2:30 pm to claim your pew! \nEven more information about The LeeVees and their music: https://theleevees1.bandcamp.com/album/hanukah-rocks
URL:https://bevmain.org/event/first-baptist-church-in-beverlys-2023-holiday-fair-2/
LOCATION:First Baptist Church in Beverly\, 221 Cabot Street\, Beverly\, MA\, 01915\, United States
CATEGORIES:Community Events,Food,Kids,Music/Concert
ATTACH;FMTTYPE=image/jpeg:https://bevmain.org/wp-content/uploads/2023/11/399727053_725462752942987_3600754294033883525_n.jpg
ORGANIZER;CN="First Baptist Church in Beverly":MAILTO:bulletin@fbcbeverly.org
GEO:42.5484488;-70.8782342
X-APPLE-STRUCTURED-LOCATION;VALUE=URI;X-ADDRESS=First Baptist Church in Beverly 221 Cabot Street Beverly MA 01915 United States;X-APPLE-RADIUS=500;X-TITLE=221 Cabot Street:geo:-70.8782342,42.5484488
END:VEVENT
BEGIN:VEVENT
DTSTART;TZID=America/New_York:20231118T090000
DTEND;TZID=America/New_York:20231118T143000
DTSTAMP:20260422T195618
CREATED:20231113T191534Z
LAST-MODIFIED:20231113T191534Z
UID:10020118-1700298000-1700317800@bevmain.org
SUMMARY:First Baptist Church in Beverly's 2023 Holiday Fair!
DESCRIPTION:First Baptist Church in Beverly (FBC Beverly) welcomes everyone in the local and greater communities to their annual holiday fair held at the church\, 221 Cabot Street in Beverly\, MA from 9:00-2:30 pm this Saturday\, November 18\, 2023. This fun family affair features breakfast from 9:00-10:30 am\, a luncheon that runs from 11:00-2:00 pm\, and photos with you guessed it\, Santa Claus from 10:30-12:30 pm! Last year’s ever-popular cake raffle takes place at 1:00 pm if you’re a sweets lover\, and you won’t want to miss the huge selection of crafts\, baked goods\, Grandpa’s Attic\, raffles and an elaborate Silent Auction. A new area will be on the scene this year featuring approximately 50 plants that one dedicated church member grew from her mother’s plant cuttings over the past 8 months as a labor of love.
URL:https://bevmain.org/event/first-baptist-church-in-beverlys-2023-holiday-fair/
LOCATION:First Baptist Church in Beverly\, 221 Cabot Street\, Beverly\, MA\, 01915\, United States
CATEGORIES:Community Events,Food,Kids,Shopping
ATTACH;FMTTYPE=image/png:https://bevmain.org/wp-content/uploads/2023/11/FBC-Beverlys-2.png
ORGANIZER;CN="First Baptist Church in Beverly":MAILTO:bulletin@fbcbeverly.org
GEO:42.5484488;-70.8782342
X-APPLE-STRUCTURED-LOCATION;VALUE=URI;X-ADDRESS=First Baptist Church in Beverly 221 Cabot Street Beverly MA 01915 United States;X-APPLE-RADIUS=500;X-TITLE=221 Cabot Street:geo:-70.8782342,42.5484488
END:VEVENT
BEGIN:VEVENT
DTSTART;TZID=America/New_York:20230924T083000
DTEND;TZID=America/New_York:20230924T113000
DTSTAMP:20260422T195618
CREATED:20230922T125057Z
LAST-MODIFIED:20230922T125057Z
UID:10019709-1695544200-1695555000@bevmain.org
SUMMARY:Rally Day at the First Baptist Church in Beverly
DESCRIPTION:Join us this program year as we explore what it takes to build the kind of community in which everyone can flourish! \nRally Day Kick-Off is Sunday\, September 24\, 2023! \n8:30 a.m.: Breakfast and Celebration\n10:00 a.m.: Worship\n4:00 p.m.: Middle School Fellowship (Grades 5-8)\n6:00 p.m.: Senior High Fellowship (Grades 9-12)
URL:https://bevmain.org/event/rally-day-at-the-first-baptist-church-in-beverly/
LOCATION:First Baptist Church in Beverly\, 221 Cabot Street\, Beverly\, MA\, 01915\, United States
CATEGORIES:Community Events
ATTACH;FMTTYPE=image/png:https://bevmain.org/wp-content/uploads/2023/09/Rally-Day-@-FBC-5000-x-5000-px-4.png
ORGANIZER;CN="First Baptist Church in Beverly":MAILTO:bulletin@fbcbeverly.org
GEO:42.5484488;-70.8782342
X-APPLE-STRUCTURED-LOCATION;VALUE=URI;X-ADDRESS=First Baptist Church in Beverly 221 Cabot Street Beverly MA 01915 United States;X-APPLE-RADIUS=500;X-TITLE=221 Cabot Street:geo:-70.8782342,42.5484488
END:VEVENT
BEGIN:VEVENT
DTSTART;TZID=America/New_York:20230121T190000
DTEND;TZID=America/New_York:20230121T200000
DTSTAMP:20260422T195618
CREATED:20230117T172417Z
LAST-MODIFIED:20230117T172417Z
UID:10013159-1674327600-1674331200@bevmain.org
SUMMARY:Northshoremen Barbershop Chorus Concert Fundraiser
DESCRIPTION:Beat the January blues and join us for a fundraising concert sure to be fun for ALL ages! The Northshoremen Barbershop Chorus is an a cappella group which sings in a unique “Barbershop-style” of close 4-part harmony. Light refreshments will be available. \nTickets are $20 per person; persons under 18 are FREE! \nPlus\, enter a Super Raffle for a chance to win OVER $300 in Beverly restaurant gift cards! Raffle tickets are 1 for $5\, or 5 for $20 and can be purchased at the door\, or in advance through our website. The raffle drawing will take place at the concert. Participating restaurants include: Atomic Café\, Depot Diner\, Flip the Bird\, Gourmet Garden\, Nick’s Roast Beef\, Rev Kitchen & Bar\, Siam Delight Thai Cuisine\, Soall\, Super Sub\, What’s Brewin’ Cafe. \n*All net proceeds will go towards FBC Beverly’s upcoming service trip to North Carolina this summer! An all-ages group of approximately forty people from the church will be working hand in hand with Carolina Rebuilding Ministry (CRM). The group will be striving to improve the quality of the lives of individuals and families by making renovations to their homes as they are unable to afford to make those repairs themselves. This will be our third trip to work with CRM and our first since 2018! \n**Should it be necessary to reschedule this event due to weather\, you will be notified via email. We will also update all of our social media outlets as well as our website. \nLOCATION\nFirst Baptist Church in Beverly\, 01915
URL:https://bevmain.org/event/northshoremen-barbershop-chorus-concert-fundraiser/
LOCATION:First Baptist Church in Beverly\, 221 Cabot Street\, Beverly\, MA\, 01915\, United States
ATTACH;FMTTYPE=image/png:https://bevmain.org/wp-content/uploads/2023/01/First-Baptist-Church-in-Beverly-presents...-2.png
ORGANIZER;CN="First Baptist Church in Beverly":MAILTO:bulletin@fbcbeverly.org
GEO:42.5484488;-70.8782342
X-APPLE-STRUCTURED-LOCATION;VALUE=URI;X-ADDRESS=First Baptist Church in Beverly 221 Cabot Street Beverly MA 01915 United States;X-APPLE-RADIUS=500;X-TITLE=221 Cabot Street:geo:-70.8782342,42.5484488
END:VEVENT
END:VCALENDAR