BEGIN:VCALENDAR
VERSION:2.0
PRODID:-//Beverly Main Streets - ECPv6.15.20//NONSGML v1.0//EN
CALSCALE:GREGORIAN
METHOD:PUBLISH
X-WR-CALNAME:Beverly Main Streets
X-ORIGINAL-URL:https://bevmain.org
X-WR-CALDESC:Events for Beverly Main Streets
REFRESH-INTERVAL;VALUE=DURATION:PT1H
X-Robots-Tag:noindex
X-PUBLISHED-TTL:PT1H
BEGIN:VTIMEZONE
TZID:America/New_York
BEGIN:DAYLIGHT
TZOFFSETFROM:-0500
TZOFFSETTO:-0400
TZNAME:EDT
DTSTART:20250309T070000
END:DAYLIGHT
BEGIN:STANDARD
TZOFFSETFROM:-0400
TZOFFSETTO:-0500
TZNAME:EST
DTSTART:20251102T060000
END:STANDARD
BEGIN:DAYLIGHT
TZOFFSETFROM:-0500
TZOFFSETTO:-0400
TZNAME:EDT
DTSTART:20260308T070000
END:DAYLIGHT
BEGIN:STANDARD
TZOFFSETFROM:-0400
TZOFFSETTO:-0500
TZNAME:EST
DTSTART:20261101T060000
END:STANDARD
BEGIN:DAYLIGHT
TZOFFSETFROM:-0500
TZOFFSETTO:-0400
TZNAME:EDT
DTSTART:20270314T070000
END:DAYLIGHT
BEGIN:STANDARD
TZOFFSETFROM:-0400
TZOFFSETTO:-0500
TZNAME:EST
DTSTART:20271107T060000
END:STANDARD
END:VTIMEZONE
BEGIN:VEVENT
DTSTART;TZID=America/New_York:20260501T140000
DTEND;TZID=America/New_York:20260501T150000
DTSTAMP:20260423T023655
CREATED:20260422T184929Z
LAST-MODIFIED:20260422T184929Z
UID:10039196-1777644000-1777647600@bevmain.org
SUMMARY:First Friday: Hearth Cooking at the Balch House
DESCRIPTION:Step back into the 17th century and experience the sights\, smells\, and flavors of early New England at Historic Beverly’s First Friday program at the Balch House. \nJoin us for a live hearth cooking demonstration in the c. 1680 kitchen of one of Beverly’s oldest surviving homes. Using period tools and techniques\, our interpreters will prepare traditional foods over the open hearth while sharing stories about daily life\, seasonal ingredients\, and the labor that sustained early colonial households. \nDiscover how meals were prepared without modern conveniences\, learn about the rhythms of food preparation in early America\, and explore how cooking connected families\, communities\, and cultures. Visitors will have the opportunity to ask questions and see historic recipes brought to life in an authentic setting. \nThis free program offers a warm and engaging way to connect with Beverly’s past. Drop in\, gather by the hearth\, and experience history in action.
URL:https://bevmain.org/event/first-friday-hearth-cooking-at-the-balch-house/
LOCATION:John Balch House\, 448 Cabot Street\, Beverly\, 01915\, United States
CATEGORIES:Community Events,Free
ATTACH;FMTTYPE=image/png:https://bevmain.org/wp-content/uploads/2026/04/First-Friday-Hearth-Cooking-at-Balch-House.png
END:VEVENT
END:VCALENDAR