BEGIN:VCALENDAR
VERSION:2.0
PRODID:-//Beverly Main Streets - ECPv6.15.20//NONSGML v1.0//EN
CALSCALE:GREGORIAN
METHOD:PUBLISH
X-ORIGINAL-URL:https://bevmain.org
X-WR-CALDESC:Events for Beverly Main Streets
REFRESH-INTERVAL;VALUE=DURATION:PT1H
X-Robots-Tag:noindex
X-PUBLISHED-TTL:PT1H
BEGIN:VTIMEZONE
TZID:America/New_York
BEGIN:DAYLIGHT
TZOFFSETFROM:-0500
TZOFFSETTO:-0400
TZNAME:EDT
DTSTART:20280312T070000
END:DAYLIGHT
BEGIN:STANDARD
TZOFFSETFROM:-0400
TZOFFSETTO:-0500
TZNAME:EST
DTSTART:20281105T060000
END:STANDARD
BEGIN:DAYLIGHT
TZOFFSETFROM:-0500
TZOFFSETTO:-0400
TZNAME:EDT
DTSTART:20290311T070000
END:DAYLIGHT
BEGIN:STANDARD
TZOFFSETFROM:-0400
TZOFFSETTO:-0500
TZNAME:EST
DTSTART:20291104T060000
END:STANDARD
BEGIN:DAYLIGHT
TZOFFSETFROM:-0500
TZOFFSETTO:-0400
TZNAME:EDT
DTSTART:20300310T070000
END:DAYLIGHT
BEGIN:STANDARD
TZOFFSETFROM:-0400
TZOFFSETTO:-0500
TZNAME:EST
DTSTART:20301103T060000
END:STANDARD
BEGIN:DAYLIGHT
TZOFFSETFROM:-0500
TZOFFSETTO:-0400
TZNAME:EDT
DTSTART:20310309T070000
END:DAYLIGHT
BEGIN:STANDARD
TZOFFSETFROM:-0400
TZOFFSETTO:-0500
TZNAME:EST
DTSTART:20311102T060000
END:STANDARD
END:VTIMEZONE
BEGIN:VEVENT
DTSTART;TZID=America/New_York:20291010T193000
DTEND;TZID=America/New_York:20291010T233000
DTSTAMP:20260425T115640
CREATED:20260424T161822Z
LAST-MODIFIED:20260424T161822Z
UID:10039383-1886355000-1886369400@bevmain.org
SUMMARY:Not Your Mother's Trivia
DESCRIPTION:Weekly trivia night with questions geared for ages 25+.\nCome on your own or grab some friends for a team. Enjoy delicious\, affordable drinks while having a good time showing off your knowledge. Prizes for the top 3 scores!
URL:https://bevmain.org/event/not-your-mothers-trivia/2029-10-10/
LOCATION:Spear Post  331\, 3 Judson Street / Pond St entrance\, Beverly\, MA\, 01915\, United States
CATEGORIES:Free
ATTACH;FMTTYPE=image/jpeg:https://bevmain.org/wp-content/uploads/2026/04/4871.jpg
END:VEVENT
BEGIN:VEVENT
DTSTART;TZID=America/New_York:20291017T193000
DTEND;TZID=America/New_York:20291017T233000
DTSTAMP:20260425T115640
CREATED:20260424T161822Z
LAST-MODIFIED:20260424T161822Z
UID:10039384-1886959800-1886974200@bevmain.org
SUMMARY:Not Your Mother's Trivia
DESCRIPTION:Weekly trivia night with questions geared for ages 25+.\nCome on your own or grab some friends for a team. Enjoy delicious\, affordable drinks while having a good time showing off your knowledge. Prizes for the top 3 scores!
URL:https://bevmain.org/event/not-your-mothers-trivia/2029-10-17/
LOCATION:Spear Post  331\, 3 Judson Street / Pond St entrance\, Beverly\, MA\, 01915\, United States
CATEGORIES:Free
ATTACH;FMTTYPE=image/jpeg:https://bevmain.org/wp-content/uploads/2026/04/4871.jpg
END:VEVENT
BEGIN:VEVENT
DTSTART;TZID=America/New_York:20291024T193000
DTEND;TZID=America/New_York:20291024T233000
DTSTAMP:20260425T115640
CREATED:20260424T161822Z
LAST-MODIFIED:20260424T161822Z
UID:10039385-1887564600-1887579000@bevmain.org
SUMMARY:Not Your Mother's Trivia
DESCRIPTION:Weekly trivia night with questions geared for ages 25+.\nCome on your own or grab some friends for a team. Enjoy delicious\, affordable drinks while having a good time showing off your knowledge. Prizes for the top 3 scores!
URL:https://bevmain.org/event/not-your-mothers-trivia/2029-10-24/
LOCATION:Spear Post  331\, 3 Judson Street / Pond St entrance\, Beverly\, MA\, 01915\, United States
CATEGORIES:Free
ATTACH;FMTTYPE=image/jpeg:https://bevmain.org/wp-content/uploads/2026/04/4871.jpg
END:VEVENT
BEGIN:VEVENT
DTSTART;TZID=America/New_York:20291031T193000
DTEND;TZID=America/New_York:20291031T233000
DTSTAMP:20260425T115640
CREATED:20260424T161822Z
LAST-MODIFIED:20260424T161822Z
UID:10039386-1888169400-1888183800@bevmain.org
SUMMARY:Not Your Mother's Trivia
DESCRIPTION:Weekly trivia night with questions geared for ages 25+.\nCome on your own or grab some friends for a team. Enjoy delicious\, affordable drinks while having a good time showing off your knowledge. Prizes for the top 3 scores!
URL:https://bevmain.org/event/not-your-mothers-trivia/2029-10-31/
LOCATION:Spear Post  331\, 3 Judson Street / Pond St entrance\, Beverly\, MA\, 01915\, United States
CATEGORIES:Free
ATTACH;FMTTYPE=image/jpeg:https://bevmain.org/wp-content/uploads/2026/04/4871.jpg
END:VEVENT
BEGIN:VEVENT
DTSTART;TZID=America/New_York:20291107T193000
DTEND;TZID=America/New_York:20291107T233000
DTSTAMP:20260425T115640
CREATED:20260424T161822Z
LAST-MODIFIED:20260424T161822Z
UID:10039387-1888774200-1888788600@bevmain.org
SUMMARY:Not Your Mother's Trivia
DESCRIPTION:Weekly trivia night with questions geared for ages 25+.\nCome on your own or grab some friends for a team. Enjoy delicious\, affordable drinks while having a good time showing off your knowledge. Prizes for the top 3 scores!
URL:https://bevmain.org/event/not-your-mothers-trivia/2029-11-07/
LOCATION:Spear Post  331\, 3 Judson Street / Pond St entrance\, Beverly\, MA\, 01915\, United States
CATEGORIES:Free
ATTACH;FMTTYPE=image/jpeg:https://bevmain.org/wp-content/uploads/2026/04/4871.jpg
END:VEVENT
BEGIN:VEVENT
DTSTART;TZID=America/New_York:20291114T193000
DTEND;TZID=America/New_York:20291114T233000
DTSTAMP:20260425T115640
CREATED:20260424T161822Z
LAST-MODIFIED:20260424T161822Z
UID:10039388-1889379000-1889393400@bevmain.org
SUMMARY:Not Your Mother's Trivia
DESCRIPTION:Weekly trivia night with questions geared for ages 25+.\nCome on your own or grab some friends for a team. Enjoy delicious\, affordable drinks while having a good time showing off your knowledge. Prizes for the top 3 scores!
URL:https://bevmain.org/event/not-your-mothers-trivia/2029-11-14/
LOCATION:Spear Post  331\, 3 Judson Street / Pond St entrance\, Beverly\, MA\, 01915\, United States
CATEGORIES:Free
ATTACH;FMTTYPE=image/jpeg:https://bevmain.org/wp-content/uploads/2026/04/4871.jpg
END:VEVENT
BEGIN:VEVENT
DTSTART;TZID=America/New_York:20291121T193000
DTEND;TZID=America/New_York:20291121T233000
DTSTAMP:20260425T115640
CREATED:20260424T161822Z
LAST-MODIFIED:20260424T161822Z
UID:10039389-1889983800-1889998200@bevmain.org
SUMMARY:Not Your Mother's Trivia
DESCRIPTION:Weekly trivia night with questions geared for ages 25+.\nCome on your own or grab some friends for a team. Enjoy delicious\, affordable drinks while having a good time showing off your knowledge. Prizes for the top 3 scores!
URL:https://bevmain.org/event/not-your-mothers-trivia/2029-11-21/
LOCATION:Spear Post  331\, 3 Judson Street / Pond St entrance\, Beverly\, MA\, 01915\, United States
CATEGORIES:Free
ATTACH;FMTTYPE=image/jpeg:https://bevmain.org/wp-content/uploads/2026/04/4871.jpg
END:VEVENT
BEGIN:VEVENT
DTSTART;TZID=America/New_York:20291128T193000
DTEND;TZID=America/New_York:20291128T233000
DTSTAMP:20260425T115640
CREATED:20260424T161822Z
LAST-MODIFIED:20260424T161822Z
UID:10039390-1890588600-1890603000@bevmain.org
SUMMARY:Not Your Mother's Trivia
DESCRIPTION:Weekly trivia night with questions geared for ages 25+.\nCome on your own or grab some friends for a team. Enjoy delicious\, affordable drinks while having a good time showing off your knowledge. Prizes for the top 3 scores!
URL:https://bevmain.org/event/not-your-mothers-trivia/2029-11-28/
LOCATION:Spear Post  331\, 3 Judson Street / Pond St entrance\, Beverly\, MA\, 01915\, United States
CATEGORIES:Free
ATTACH;FMTTYPE=image/jpeg:https://bevmain.org/wp-content/uploads/2026/04/4871.jpg
END:VEVENT
BEGIN:VEVENT
DTSTART;TZID=America/New_York:20291205T193000
DTEND;TZID=America/New_York:20291205T233000
DTSTAMP:20260425T115640
CREATED:20260424T161822Z
LAST-MODIFIED:20260424T161822Z
UID:10039391-1891193400-1891207800@bevmain.org
SUMMARY:Not Your Mother's Trivia
DESCRIPTION:Weekly trivia night with questions geared for ages 25+.\nCome on your own or grab some friends for a team. Enjoy delicious\, affordable drinks while having a good time showing off your knowledge. Prizes for the top 3 scores!
URL:https://bevmain.org/event/not-your-mothers-trivia/2029-12-05/
LOCATION:Spear Post  331\, 3 Judson Street / Pond St entrance\, Beverly\, MA\, 01915\, United States
CATEGORIES:Free
ATTACH;FMTTYPE=image/jpeg:https://bevmain.org/wp-content/uploads/2026/04/4871.jpg
END:VEVENT
BEGIN:VEVENT
DTSTART;TZID=America/New_York:20291212T193000
DTEND;TZID=America/New_York:20291212T233000
DTSTAMP:20260425T115640
CREATED:20260424T161822Z
LAST-MODIFIED:20260424T161822Z
UID:10039392-1891798200-1891812600@bevmain.org
SUMMARY:Not Your Mother's Trivia
DESCRIPTION:Weekly trivia night with questions geared for ages 25+.\nCome on your own or grab some friends for a team. Enjoy delicious\, affordable drinks while having a good time showing off your knowledge. Prizes for the top 3 scores!
URL:https://bevmain.org/event/not-your-mothers-trivia/2029-12-12/
LOCATION:Spear Post  331\, 3 Judson Street / Pond St entrance\, Beverly\, MA\, 01915\, United States
CATEGORIES:Free
ATTACH;FMTTYPE=image/jpeg:https://bevmain.org/wp-content/uploads/2026/04/4871.jpg
END:VEVENT
BEGIN:VEVENT
DTSTART;TZID=America/New_York:20291219T193000
DTEND;TZID=America/New_York:20291219T233000
DTSTAMP:20260425T115640
CREATED:20260424T161822Z
LAST-MODIFIED:20260424T161822Z
UID:10039393-1892403000-1892417400@bevmain.org
SUMMARY:Not Your Mother's Trivia
DESCRIPTION:Weekly trivia night with questions geared for ages 25+.\nCome on your own or grab some friends for a team. Enjoy delicious\, affordable drinks while having a good time showing off your knowledge. Prizes for the top 3 scores!
URL:https://bevmain.org/event/not-your-mothers-trivia/2029-12-19/
LOCATION:Spear Post  331\, 3 Judson Street / Pond St entrance\, Beverly\, MA\, 01915\, United States
CATEGORIES:Free
ATTACH;FMTTYPE=image/jpeg:https://bevmain.org/wp-content/uploads/2026/04/4871.jpg
END:VEVENT
BEGIN:VEVENT
DTSTART;TZID=America/New_York:20291226T193000
DTEND;TZID=America/New_York:20291226T233000
DTSTAMP:20260425T115640
CREATED:20260424T161822Z
LAST-MODIFIED:20260424T161822Z
UID:10039394-1893007800-1893022200@bevmain.org
SUMMARY:Not Your Mother's Trivia
DESCRIPTION:Weekly trivia night with questions geared for ages 25+.\nCome on your own or grab some friends for a team. Enjoy delicious\, affordable drinks while having a good time showing off your knowledge. Prizes for the top 3 scores!
URL:https://bevmain.org/event/not-your-mothers-trivia/2029-12-26/
LOCATION:Spear Post  331\, 3 Judson Street / Pond St entrance\, Beverly\, MA\, 01915\, United States
CATEGORIES:Free
ATTACH;FMTTYPE=image/jpeg:https://bevmain.org/wp-content/uploads/2026/04/4871.jpg
END:VEVENT
BEGIN:VEVENT
DTSTART;TZID=America/New_York:20300102T193000
DTEND;TZID=America/New_York:20300102T233000
DTSTAMP:20260425T115640
CREATED:20260424T161822Z
LAST-MODIFIED:20260424T161822Z
UID:10039395-1893612600-1893627000@bevmain.org
SUMMARY:Not Your Mother's Trivia
DESCRIPTION:Weekly trivia night with questions geared for ages 25+.\nCome on your own or grab some friends for a team. Enjoy delicious\, affordable drinks while having a good time showing off your knowledge. Prizes for the top 3 scores!
URL:https://bevmain.org/event/not-your-mothers-trivia/2030-01-02/
LOCATION:Spear Post  331\, 3 Judson Street / Pond St entrance\, Beverly\, MA\, 01915\, United States
CATEGORIES:Free
ATTACH;FMTTYPE=image/jpeg:https://bevmain.org/wp-content/uploads/2026/04/4871.jpg
END:VEVENT
BEGIN:VEVENT
DTSTART;TZID=America/New_York:20300109T193000
DTEND;TZID=America/New_York:20300109T233000
DTSTAMP:20260425T115640
CREATED:20260424T161822Z
LAST-MODIFIED:20260424T161822Z
UID:10039396-1894217400-1894231800@bevmain.org
SUMMARY:Not Your Mother's Trivia
DESCRIPTION:Weekly trivia night with questions geared for ages 25+.\nCome on your own or grab some friends for a team. Enjoy delicious\, affordable drinks while having a good time showing off your knowledge. Prizes for the top 3 scores!
URL:https://bevmain.org/event/not-your-mothers-trivia/2030-01-09/
LOCATION:Spear Post  331\, 3 Judson Street / Pond St entrance\, Beverly\, MA\, 01915\, United States
CATEGORIES:Free
ATTACH;FMTTYPE=image/jpeg:https://bevmain.org/wp-content/uploads/2026/04/4871.jpg
END:VEVENT
BEGIN:VEVENT
DTSTART;TZID=America/New_York:20300116T193000
DTEND;TZID=America/New_York:20300116T233000
DTSTAMP:20260425T115640
CREATED:20260424T161822Z
LAST-MODIFIED:20260424T161822Z
UID:10039397-1894822200-1894836600@bevmain.org
SUMMARY:Not Your Mother's Trivia
DESCRIPTION:Weekly trivia night with questions geared for ages 25+.\nCome on your own or grab some friends for a team. Enjoy delicious\, affordable drinks while having a good time showing off your knowledge. Prizes for the top 3 scores!
URL:https://bevmain.org/event/not-your-mothers-trivia/2030-01-16/
LOCATION:Spear Post  331\, 3 Judson Street / Pond St entrance\, Beverly\, MA\, 01915\, United States
CATEGORIES:Free
ATTACH;FMTTYPE=image/jpeg:https://bevmain.org/wp-content/uploads/2026/04/4871.jpg
END:VEVENT
BEGIN:VEVENT
DTSTART;TZID=America/New_York:20300123T193000
DTEND;TZID=America/New_York:20300123T233000
DTSTAMP:20260425T115640
CREATED:20260424T161822Z
LAST-MODIFIED:20260424T161822Z
UID:10039398-1895427000-1895441400@bevmain.org
SUMMARY:Not Your Mother's Trivia
DESCRIPTION:Weekly trivia night with questions geared for ages 25+.\nCome on your own or grab some friends for a team. Enjoy delicious\, affordable drinks while having a good time showing off your knowledge. Prizes for the top 3 scores!
URL:https://bevmain.org/event/not-your-mothers-trivia/2030-01-23/
LOCATION:Spear Post  331\, 3 Judson Street / Pond St entrance\, Beverly\, MA\, 01915\, United States
CATEGORIES:Free
ATTACH;FMTTYPE=image/jpeg:https://bevmain.org/wp-content/uploads/2026/04/4871.jpg
END:VEVENT
BEGIN:VEVENT
DTSTART;TZID=America/New_York:20300130T193000
DTEND;TZID=America/New_York:20300130T233000
DTSTAMP:20260425T115640
CREATED:20260424T161822Z
LAST-MODIFIED:20260424T161822Z
UID:10039399-1896031800-1896046200@bevmain.org
SUMMARY:Not Your Mother's Trivia
DESCRIPTION:Weekly trivia night with questions geared for ages 25+.\nCome on your own or grab some friends for a team. Enjoy delicious\, affordable drinks while having a good time showing off your knowledge. Prizes for the top 3 scores!
URL:https://bevmain.org/event/not-your-mothers-trivia/2030-01-30/
LOCATION:Spear Post  331\, 3 Judson Street / Pond St entrance\, Beverly\, MA\, 01915\, United States
CATEGORIES:Free
ATTACH;FMTTYPE=image/jpeg:https://bevmain.org/wp-content/uploads/2026/04/4871.jpg
END:VEVENT
BEGIN:VEVENT
DTSTART;TZID=America/New_York:20300206T193000
DTEND;TZID=America/New_York:20300206T233000
DTSTAMP:20260425T115640
CREATED:20260424T161822Z
LAST-MODIFIED:20260424T161822Z
UID:10039400-1896636600-1896651000@bevmain.org
SUMMARY:Not Your Mother's Trivia
DESCRIPTION:Weekly trivia night with questions geared for ages 25+.\nCome on your own or grab some friends for a team. Enjoy delicious\, affordable drinks while having a good time showing off your knowledge. Prizes for the top 3 scores!
URL:https://bevmain.org/event/not-your-mothers-trivia/2030-02-06/
LOCATION:Spear Post  331\, 3 Judson Street / Pond St entrance\, Beverly\, MA\, 01915\, United States
CATEGORIES:Free
ATTACH;FMTTYPE=image/jpeg:https://bevmain.org/wp-content/uploads/2026/04/4871.jpg
END:VEVENT
BEGIN:VEVENT
DTSTART;TZID=America/New_York:20300213T193000
DTEND;TZID=America/New_York:20300213T233000
DTSTAMP:20260425T115640
CREATED:20260424T161822Z
LAST-MODIFIED:20260424T161822Z
UID:10039401-1897241400-1897255800@bevmain.org
SUMMARY:Not Your Mother's Trivia
DESCRIPTION:Weekly trivia night with questions geared for ages 25+.\nCome on your own or grab some friends for a team. Enjoy delicious\, affordable drinks while having a good time showing off your knowledge. Prizes for the top 3 scores!
URL:https://bevmain.org/event/not-your-mothers-trivia/2030-02-13/
LOCATION:Spear Post  331\, 3 Judson Street / Pond St entrance\, Beverly\, MA\, 01915\, United States
CATEGORIES:Free
ATTACH;FMTTYPE=image/jpeg:https://bevmain.org/wp-content/uploads/2026/04/4871.jpg
END:VEVENT
BEGIN:VEVENT
DTSTART;TZID=America/New_York:20300220T193000
DTEND;TZID=America/New_York:20300220T233000
DTSTAMP:20260425T115640
CREATED:20260424T161822Z
LAST-MODIFIED:20260424T161822Z
UID:10039402-1897846200-1897860600@bevmain.org
SUMMARY:Not Your Mother's Trivia
DESCRIPTION:Weekly trivia night with questions geared for ages 25+.\nCome on your own or grab some friends for a team. Enjoy delicious\, affordable drinks while having a good time showing off your knowledge. Prizes for the top 3 scores!
URL:https://bevmain.org/event/not-your-mothers-trivia/2030-02-20/
LOCATION:Spear Post  331\, 3 Judson Street / Pond St entrance\, Beverly\, MA\, 01915\, United States
CATEGORIES:Free
ATTACH;FMTTYPE=image/jpeg:https://bevmain.org/wp-content/uploads/2026/04/4871.jpg
END:VEVENT
BEGIN:VEVENT
DTSTART;TZID=America/New_York:20300227T193000
DTEND;TZID=America/New_York:20300227T233000
DTSTAMP:20260425T115640
CREATED:20260424T161822Z
LAST-MODIFIED:20260424T161822Z
UID:10039403-1898451000-1898465400@bevmain.org
SUMMARY:Not Your Mother's Trivia
DESCRIPTION:Weekly trivia night with questions geared for ages 25+.\nCome on your own or grab some friends for a team. Enjoy delicious\, affordable drinks while having a good time showing off your knowledge. Prizes for the top 3 scores!
URL:https://bevmain.org/event/not-your-mothers-trivia/2030-02-27/
LOCATION:Spear Post  331\, 3 Judson Street / Pond St entrance\, Beverly\, MA\, 01915\, United States
CATEGORIES:Free
ATTACH;FMTTYPE=image/jpeg:https://bevmain.org/wp-content/uploads/2026/04/4871.jpg
END:VEVENT
BEGIN:VEVENT
DTSTART;TZID=America/New_York:20300306T193000
DTEND;TZID=America/New_York:20300306T233000
DTSTAMP:20260425T115640
CREATED:20260424T161822Z
LAST-MODIFIED:20260424T161822Z
UID:10039404-1899055800-1899070200@bevmain.org
SUMMARY:Not Your Mother's Trivia
DESCRIPTION:Weekly trivia night with questions geared for ages 25+.\nCome on your own or grab some friends for a team. Enjoy delicious\, affordable drinks while having a good time showing off your knowledge. Prizes for the top 3 scores!
URL:https://bevmain.org/event/not-your-mothers-trivia/2030-03-06/
LOCATION:Spear Post  331\, 3 Judson Street / Pond St entrance\, Beverly\, MA\, 01915\, United States
CATEGORIES:Free
ATTACH;FMTTYPE=image/jpeg:https://bevmain.org/wp-content/uploads/2026/04/4871.jpg
END:VEVENT
BEGIN:VEVENT
DTSTART;TZID=America/New_York:20300313T193000
DTEND;TZID=America/New_York:20300313T233000
DTSTAMP:20260425T115640
CREATED:20260424T161822Z
LAST-MODIFIED:20260424T161822Z
UID:10039405-1899660600-1899675000@bevmain.org
SUMMARY:Not Your Mother's Trivia
DESCRIPTION:Weekly trivia night with questions geared for ages 25+.\nCome on your own or grab some friends for a team. Enjoy delicious\, affordable drinks while having a good time showing off your knowledge. Prizes for the top 3 scores!
URL:https://bevmain.org/event/not-your-mothers-trivia/2030-03-13/
LOCATION:Spear Post  331\, 3 Judson Street / Pond St entrance\, Beverly\, MA\, 01915\, United States
CATEGORIES:Free
ATTACH;FMTTYPE=image/jpeg:https://bevmain.org/wp-content/uploads/2026/04/4871.jpg
END:VEVENT
BEGIN:VEVENT
DTSTART;TZID=America/New_York:20300320T193000
DTEND;TZID=America/New_York:20300320T233000
DTSTAMP:20260425T115640
CREATED:20260424T161822Z
LAST-MODIFIED:20260424T161822Z
UID:10039406-1900265400-1900279800@bevmain.org
SUMMARY:Not Your Mother's Trivia
DESCRIPTION:Weekly trivia night with questions geared for ages 25+.\nCome on your own or grab some friends for a team. Enjoy delicious\, affordable drinks while having a good time showing off your knowledge. Prizes for the top 3 scores!
URL:https://bevmain.org/event/not-your-mothers-trivia/2030-03-20/
LOCATION:Spear Post  331\, 3 Judson Street / Pond St entrance\, Beverly\, MA\, 01915\, United States
CATEGORIES:Free
ATTACH;FMTTYPE=image/jpeg:https://bevmain.org/wp-content/uploads/2026/04/4871.jpg
END:VEVENT
BEGIN:VEVENT
DTSTART;TZID=America/New_York:20300327T193000
DTEND;TZID=America/New_York:20300327T233000
DTSTAMP:20260425T115640
CREATED:20260424T161822Z
LAST-MODIFIED:20260424T161822Z
UID:10039407-1900870200-1900884600@bevmain.org
SUMMARY:Not Your Mother's Trivia
DESCRIPTION:Weekly trivia night with questions geared for ages 25+.\nCome on your own or grab some friends for a team. Enjoy delicious\, affordable drinks while having a good time showing off your knowledge. Prizes for the top 3 scores!
URL:https://bevmain.org/event/not-your-mothers-trivia/2030-03-27/
LOCATION:Spear Post  331\, 3 Judson Street / Pond St entrance\, Beverly\, MA\, 01915\, United States
CATEGORIES:Free
ATTACH;FMTTYPE=image/jpeg:https://bevmain.org/wp-content/uploads/2026/04/4871.jpg
END:VEVENT
BEGIN:VEVENT
DTSTART;TZID=America/New_York:20300403T193000
DTEND;TZID=America/New_York:20300403T233000
DTSTAMP:20260425T115640
CREATED:20260424T161822Z
LAST-MODIFIED:20260424T161822Z
UID:10039408-1901475000-1901489400@bevmain.org
SUMMARY:Not Your Mother's Trivia
DESCRIPTION:Weekly trivia night with questions geared for ages 25+.\nCome on your own or grab some friends for a team. Enjoy delicious\, affordable drinks while having a good time showing off your knowledge. Prizes for the top 3 scores!
URL:https://bevmain.org/event/not-your-mothers-trivia/2030-04-03/
LOCATION:Spear Post  331\, 3 Judson Street / Pond St entrance\, Beverly\, MA\, 01915\, United States
CATEGORIES:Free
ATTACH;FMTTYPE=image/jpeg:https://bevmain.org/wp-content/uploads/2026/04/4871.jpg
END:VEVENT
BEGIN:VEVENT
DTSTART;TZID=America/New_York:20300410T193000
DTEND;TZID=America/New_York:20300410T233000
DTSTAMP:20260425T115640
CREATED:20260424T161822Z
LAST-MODIFIED:20260424T161822Z
UID:10039409-1902079800-1902094200@bevmain.org
SUMMARY:Not Your Mother's Trivia
DESCRIPTION:Weekly trivia night with questions geared for ages 25+.\nCome on your own or grab some friends for a team. Enjoy delicious\, affordable drinks while having a good time showing off your knowledge. Prizes for the top 3 scores!
URL:https://bevmain.org/event/not-your-mothers-trivia/2030-04-10/
LOCATION:Spear Post  331\, 3 Judson Street / Pond St entrance\, Beverly\, MA\, 01915\, United States
CATEGORIES:Free
ATTACH;FMTTYPE=image/jpeg:https://bevmain.org/wp-content/uploads/2026/04/4871.jpg
END:VEVENT
BEGIN:VEVENT
DTSTART;TZID=America/New_York:20300417T193000
DTEND;TZID=America/New_York:20300417T233000
DTSTAMP:20260425T115640
CREATED:20260424T161822Z
LAST-MODIFIED:20260424T161822Z
UID:10039410-1902684600-1902699000@bevmain.org
SUMMARY:Not Your Mother's Trivia
DESCRIPTION:Weekly trivia night with questions geared for ages 25+.\nCome on your own or grab some friends for a team. Enjoy delicious\, affordable drinks while having a good time showing off your knowledge. Prizes for the top 3 scores!
URL:https://bevmain.org/event/not-your-mothers-trivia/2030-04-17/
LOCATION:Spear Post  331\, 3 Judson Street / Pond St entrance\, Beverly\, MA\, 01915\, United States
CATEGORIES:Free
ATTACH;FMTTYPE=image/jpeg:https://bevmain.org/wp-content/uploads/2026/04/4871.jpg
END:VEVENT
BEGIN:VEVENT
DTSTART;TZID=America/New_York:20300424T193000
DTEND;TZID=America/New_York:20300424T233000
DTSTAMP:20260425T115640
CREATED:20260424T161822Z
LAST-MODIFIED:20260424T161822Z
UID:10039411-1903289400-1903303800@bevmain.org
SUMMARY:Not Your Mother's Trivia
DESCRIPTION:Weekly trivia night with questions geared for ages 25+.\nCome on your own or grab some friends for a team. Enjoy delicious\, affordable drinks while having a good time showing off your knowledge. Prizes for the top 3 scores!
URL:https://bevmain.org/event/not-your-mothers-trivia/2030-04-24/
LOCATION:Spear Post  331\, 3 Judson Street / Pond St entrance\, Beverly\, MA\, 01915\, United States
CATEGORIES:Free
ATTACH;FMTTYPE=image/jpeg:https://bevmain.org/wp-content/uploads/2026/04/4871.jpg
END:VEVENT
BEGIN:VEVENT
DTSTART;TZID=America/New_York:20300501T193000
DTEND;TZID=America/New_York:20300501T233000
DTSTAMP:20260425T115640
CREATED:20260424T161822Z
LAST-MODIFIED:20260424T161822Z
UID:10039412-1903894200-1903908600@bevmain.org
SUMMARY:Not Your Mother's Trivia
DESCRIPTION:Weekly trivia night with questions geared for ages 25+.\nCome on your own or grab some friends for a team. Enjoy delicious\, affordable drinks while having a good time showing off your knowledge. Prizes for the top 3 scores!
URL:https://bevmain.org/event/not-your-mothers-trivia/2030-05-01/
LOCATION:Spear Post  331\, 3 Judson Street / Pond St entrance\, Beverly\, MA\, 01915\, United States
CATEGORIES:Free
ATTACH;FMTTYPE=image/jpeg:https://bevmain.org/wp-content/uploads/2026/04/4871.jpg
END:VEVENT
END:VCALENDAR