BEGIN:VCALENDAR
VERSION:2.0
PRODID:-//Beverly Main Streets - ECPv6.15.20//NONSGML v1.0//EN
CALSCALE:GREGORIAN
METHOD:PUBLISH
X-WR-CALNAME:Beverly Main Streets
X-ORIGINAL-URL:https://bevmain.org
X-WR-CALDESC:Events for Beverly Main Streets
REFRESH-INTERVAL;VALUE=DURATION:PT1H
X-Robots-Tag:noindex
X-PUBLISHED-TTL:PT1H
BEGIN:VTIMEZONE
TZID:America/New_York
BEGIN:DAYLIGHT
TZOFFSETFROM:-0500
TZOFFSETTO:-0400
TZNAME:EDT
DTSTART:20260308T070000
END:DAYLIGHT
BEGIN:STANDARD
TZOFFSETFROM:-0400
TZOFFSETTO:-0500
TZNAME:EST
DTSTART:20261101T060000
END:STANDARD
BEGIN:DAYLIGHT
TZOFFSETFROM:-0500
TZOFFSETTO:-0400
TZNAME:EDT
DTSTART:20270314T070000
END:DAYLIGHT
BEGIN:STANDARD
TZOFFSETFROM:-0400
TZOFFSETTO:-0500
TZNAME:EST
DTSTART:20271107T060000
END:STANDARD
BEGIN:DAYLIGHT
TZOFFSETFROM:-0500
TZOFFSETTO:-0400
TZNAME:EDT
DTSTART:20280312T070000
END:DAYLIGHT
BEGIN:STANDARD
TZOFFSETFROM:-0400
TZOFFSETTO:-0500
TZNAME:EST
DTSTART:20281105T060000
END:STANDARD
BEGIN:DAYLIGHT
TZOFFSETFROM:-0500
TZOFFSETTO:-0400
TZNAME:EDT
DTSTART:20290311T070000
END:DAYLIGHT
BEGIN:STANDARD
TZOFFSETFROM:-0400
TZOFFSETTO:-0500
TZNAME:EST
DTSTART:20291104T060000
END:STANDARD
END:VTIMEZONE
BEGIN:VEVENT
DTSTART;TZID=America/New_York:20270915T193000
DTEND;TZID=America/New_York:20270915T233000
DTSTAMP:20260425T000419
CREATED:20260424T161822Z
LAST-MODIFIED:20260424T161822Z
UID:10039275-1821036600-1821051000@bevmain.org
SUMMARY:Not Your Mother's Trivia
DESCRIPTION:Weekly trivia night with questions geared for ages 25+.\nCome on your own or grab some friends for a team. Enjoy delicious\, affordable drinks while having a good time showing off your knowledge. Prizes for the top 3 scores!
URL:https://bevmain.org/event/not-your-mothers-trivia/2027-09-15/
LOCATION:Spear Post  331\, 3 Judson Street / Pond St entrance\, Beverly\, MA\, 01915\, United States
CATEGORIES:Free
ATTACH;FMTTYPE=image/jpeg:https://bevmain.org/wp-content/uploads/2026/04/4871.jpg
END:VEVENT
BEGIN:VEVENT
DTSTART;TZID=America/New_York:20270922T193000
DTEND;TZID=America/New_York:20270922T233000
DTSTAMP:20260425T000419
CREATED:20260424T161822Z
LAST-MODIFIED:20260424T161822Z
UID:10039276-1821641400-1821655800@bevmain.org
SUMMARY:Not Your Mother's Trivia
DESCRIPTION:Weekly trivia night with questions geared for ages 25+.\nCome on your own or grab some friends for a team. Enjoy delicious\, affordable drinks while having a good time showing off your knowledge. Prizes for the top 3 scores!
URL:https://bevmain.org/event/not-your-mothers-trivia/2027-09-22/
LOCATION:Spear Post  331\, 3 Judson Street / Pond St entrance\, Beverly\, MA\, 01915\, United States
CATEGORIES:Free
ATTACH;FMTTYPE=image/jpeg:https://bevmain.org/wp-content/uploads/2026/04/4871.jpg
END:VEVENT
BEGIN:VEVENT
DTSTART;TZID=America/New_York:20270929T193000
DTEND;TZID=America/New_York:20270929T233000
DTSTAMP:20260425T000419
CREATED:20260424T161822Z
LAST-MODIFIED:20260424T161822Z
UID:10039277-1822246200-1822260600@bevmain.org
SUMMARY:Not Your Mother's Trivia
DESCRIPTION:Weekly trivia night with questions geared for ages 25+.\nCome on your own or grab some friends for a team. Enjoy delicious\, affordable drinks while having a good time showing off your knowledge. Prizes for the top 3 scores!
URL:https://bevmain.org/event/not-your-mothers-trivia/2027-09-29/
LOCATION:Spear Post  331\, 3 Judson Street / Pond St entrance\, Beverly\, MA\, 01915\, United States
CATEGORIES:Free
ATTACH;FMTTYPE=image/jpeg:https://bevmain.org/wp-content/uploads/2026/04/4871.jpg
END:VEVENT
BEGIN:VEVENT
DTSTART;TZID=America/New_York:20271006T193000
DTEND;TZID=America/New_York:20271006T233000
DTSTAMP:20260425T000419
CREATED:20260424T161822Z
LAST-MODIFIED:20260424T161822Z
UID:10039278-1822851000-1822865400@bevmain.org
SUMMARY:Not Your Mother's Trivia
DESCRIPTION:Weekly trivia night with questions geared for ages 25+.\nCome on your own or grab some friends for a team. Enjoy delicious\, affordable drinks while having a good time showing off your knowledge. Prizes for the top 3 scores!
URL:https://bevmain.org/event/not-your-mothers-trivia/2027-10-06/
LOCATION:Spear Post  331\, 3 Judson Street / Pond St entrance\, Beverly\, MA\, 01915\, United States
CATEGORIES:Free
ATTACH;FMTTYPE=image/jpeg:https://bevmain.org/wp-content/uploads/2026/04/4871.jpg
END:VEVENT
BEGIN:VEVENT
DTSTART;TZID=America/New_York:20271013T193000
DTEND;TZID=America/New_York:20271013T233000
DTSTAMP:20260425T000419
CREATED:20260424T161822Z
LAST-MODIFIED:20260424T161822Z
UID:10039279-1823455800-1823470200@bevmain.org
SUMMARY:Not Your Mother's Trivia
DESCRIPTION:Weekly trivia night with questions geared for ages 25+.\nCome on your own or grab some friends for a team. Enjoy delicious\, affordable drinks while having a good time showing off your knowledge. Prizes for the top 3 scores!
URL:https://bevmain.org/event/not-your-mothers-trivia/2027-10-13/
LOCATION:Spear Post  331\, 3 Judson Street / Pond St entrance\, Beverly\, MA\, 01915\, United States
CATEGORIES:Free
ATTACH;FMTTYPE=image/jpeg:https://bevmain.org/wp-content/uploads/2026/04/4871.jpg
END:VEVENT
BEGIN:VEVENT
DTSTART;TZID=America/New_York:20271020T193000
DTEND;TZID=America/New_York:20271020T233000
DTSTAMP:20260425T000419
CREATED:20260424T161822Z
LAST-MODIFIED:20260424T161822Z
UID:10039280-1824060600-1824075000@bevmain.org
SUMMARY:Not Your Mother's Trivia
DESCRIPTION:Weekly trivia night with questions geared for ages 25+.\nCome on your own or grab some friends for a team. Enjoy delicious\, affordable drinks while having a good time showing off your knowledge. Prizes for the top 3 scores!
URL:https://bevmain.org/event/not-your-mothers-trivia/2027-10-20/
LOCATION:Spear Post  331\, 3 Judson Street / Pond St entrance\, Beverly\, MA\, 01915\, United States
CATEGORIES:Free
ATTACH;FMTTYPE=image/jpeg:https://bevmain.org/wp-content/uploads/2026/04/4871.jpg
END:VEVENT
BEGIN:VEVENT
DTSTART;TZID=America/New_York:20271027T193000
DTEND;TZID=America/New_York:20271027T233000
DTSTAMP:20260425T000419
CREATED:20260424T161822Z
LAST-MODIFIED:20260424T161822Z
UID:10039281-1824665400-1824679800@bevmain.org
SUMMARY:Not Your Mother's Trivia
DESCRIPTION:Weekly trivia night with questions geared for ages 25+.\nCome on your own or grab some friends for a team. Enjoy delicious\, affordable drinks while having a good time showing off your knowledge. Prizes for the top 3 scores!
URL:https://bevmain.org/event/not-your-mothers-trivia/2027-10-27/
LOCATION:Spear Post  331\, 3 Judson Street / Pond St entrance\, Beverly\, MA\, 01915\, United States
CATEGORIES:Free
ATTACH;FMTTYPE=image/jpeg:https://bevmain.org/wp-content/uploads/2026/04/4871.jpg
END:VEVENT
BEGIN:VEVENT
DTSTART;TZID=America/New_York:20271103T193000
DTEND;TZID=America/New_York:20271103T233000
DTSTAMP:20260425T000419
CREATED:20260424T161822Z
LAST-MODIFIED:20260424T161822Z
UID:10039282-1825270200-1825284600@bevmain.org
SUMMARY:Not Your Mother's Trivia
DESCRIPTION:Weekly trivia night with questions geared for ages 25+.\nCome on your own or grab some friends for a team. Enjoy delicious\, affordable drinks while having a good time showing off your knowledge. Prizes for the top 3 scores!
URL:https://bevmain.org/event/not-your-mothers-trivia/2027-11-03/
LOCATION:Spear Post  331\, 3 Judson Street / Pond St entrance\, Beverly\, MA\, 01915\, United States
CATEGORIES:Free
ATTACH;FMTTYPE=image/jpeg:https://bevmain.org/wp-content/uploads/2026/04/4871.jpg
END:VEVENT
BEGIN:VEVENT
DTSTART;TZID=America/New_York:20271110T193000
DTEND;TZID=America/New_York:20271110T233000
DTSTAMP:20260425T000419
CREATED:20260424T161822Z
LAST-MODIFIED:20260424T161822Z
UID:10039283-1825875000-1825889400@bevmain.org
SUMMARY:Not Your Mother's Trivia
DESCRIPTION:Weekly trivia night with questions geared for ages 25+.\nCome on your own or grab some friends for a team. Enjoy delicious\, affordable drinks while having a good time showing off your knowledge. Prizes for the top 3 scores!
URL:https://bevmain.org/event/not-your-mothers-trivia/2027-11-10/
LOCATION:Spear Post  331\, 3 Judson Street / Pond St entrance\, Beverly\, MA\, 01915\, United States
CATEGORIES:Free
ATTACH;FMTTYPE=image/jpeg:https://bevmain.org/wp-content/uploads/2026/04/4871.jpg
END:VEVENT
BEGIN:VEVENT
DTSTART;TZID=America/New_York:20271117T193000
DTEND;TZID=America/New_York:20271117T233000
DTSTAMP:20260425T000419
CREATED:20260424T161822Z
LAST-MODIFIED:20260424T161822Z
UID:10039284-1826479800-1826494200@bevmain.org
SUMMARY:Not Your Mother's Trivia
DESCRIPTION:Weekly trivia night with questions geared for ages 25+.\nCome on your own or grab some friends for a team. Enjoy delicious\, affordable drinks while having a good time showing off your knowledge. Prizes for the top 3 scores!
URL:https://bevmain.org/event/not-your-mothers-trivia/2027-11-17/
LOCATION:Spear Post  331\, 3 Judson Street / Pond St entrance\, Beverly\, MA\, 01915\, United States
CATEGORIES:Free
ATTACH;FMTTYPE=image/jpeg:https://bevmain.org/wp-content/uploads/2026/04/4871.jpg
END:VEVENT
BEGIN:VEVENT
DTSTART;TZID=America/New_York:20271124T193000
DTEND;TZID=America/New_York:20271124T233000
DTSTAMP:20260425T000419
CREATED:20260424T161822Z
LAST-MODIFIED:20260424T161822Z
UID:10039285-1827084600-1827099000@bevmain.org
SUMMARY:Not Your Mother's Trivia
DESCRIPTION:Weekly trivia night with questions geared for ages 25+.\nCome on your own or grab some friends for a team. Enjoy delicious\, affordable drinks while having a good time showing off your knowledge. Prizes for the top 3 scores!
URL:https://bevmain.org/event/not-your-mothers-trivia/2027-11-24/
LOCATION:Spear Post  331\, 3 Judson Street / Pond St entrance\, Beverly\, MA\, 01915\, United States
CATEGORIES:Free
ATTACH;FMTTYPE=image/jpeg:https://bevmain.org/wp-content/uploads/2026/04/4871.jpg
END:VEVENT
BEGIN:VEVENT
DTSTART;TZID=America/New_York:20271201T193000
DTEND;TZID=America/New_York:20271201T233000
DTSTAMP:20260425T000419
CREATED:20260424T161822Z
LAST-MODIFIED:20260424T161822Z
UID:10039286-1827689400-1827703800@bevmain.org
SUMMARY:Not Your Mother's Trivia
DESCRIPTION:Weekly trivia night with questions geared for ages 25+.\nCome on your own or grab some friends for a team. Enjoy delicious\, affordable drinks while having a good time showing off your knowledge. Prizes for the top 3 scores!
URL:https://bevmain.org/event/not-your-mothers-trivia/2027-12-01/
LOCATION:Spear Post  331\, 3 Judson Street / Pond St entrance\, Beverly\, MA\, 01915\, United States
CATEGORIES:Free
ATTACH;FMTTYPE=image/jpeg:https://bevmain.org/wp-content/uploads/2026/04/4871.jpg
END:VEVENT
BEGIN:VEVENT
DTSTART;TZID=America/New_York:20271208T193000
DTEND;TZID=America/New_York:20271208T233000
DTSTAMP:20260425T000419
CREATED:20260424T161822Z
LAST-MODIFIED:20260424T161822Z
UID:10039287-1828294200-1828308600@bevmain.org
SUMMARY:Not Your Mother's Trivia
DESCRIPTION:Weekly trivia night with questions geared for ages 25+.\nCome on your own or grab some friends for a team. Enjoy delicious\, affordable drinks while having a good time showing off your knowledge. Prizes for the top 3 scores!
URL:https://bevmain.org/event/not-your-mothers-trivia/2027-12-08/
LOCATION:Spear Post  331\, 3 Judson Street / Pond St entrance\, Beverly\, MA\, 01915\, United States
CATEGORIES:Free
ATTACH;FMTTYPE=image/jpeg:https://bevmain.org/wp-content/uploads/2026/04/4871.jpg
END:VEVENT
BEGIN:VEVENT
DTSTART;TZID=America/New_York:20271215T193000
DTEND;TZID=America/New_York:20271215T233000
DTSTAMP:20260425T000419
CREATED:20260424T161822Z
LAST-MODIFIED:20260424T161822Z
UID:10039288-1828899000-1828913400@bevmain.org
SUMMARY:Not Your Mother's Trivia
DESCRIPTION:Weekly trivia night with questions geared for ages 25+.\nCome on your own or grab some friends for a team. Enjoy delicious\, affordable drinks while having a good time showing off your knowledge. Prizes for the top 3 scores!
URL:https://bevmain.org/event/not-your-mothers-trivia/2027-12-15/
LOCATION:Spear Post  331\, 3 Judson Street / Pond St entrance\, Beverly\, MA\, 01915\, United States
CATEGORIES:Free
ATTACH;FMTTYPE=image/jpeg:https://bevmain.org/wp-content/uploads/2026/04/4871.jpg
END:VEVENT
BEGIN:VEVENT
DTSTART;TZID=America/New_York:20271222T193000
DTEND;TZID=America/New_York:20271222T233000
DTSTAMP:20260425T000419
CREATED:20260424T161822Z
LAST-MODIFIED:20260424T161822Z
UID:10039289-1829503800-1829518200@bevmain.org
SUMMARY:Not Your Mother's Trivia
DESCRIPTION:Weekly trivia night with questions geared for ages 25+.\nCome on your own or grab some friends for a team. Enjoy delicious\, affordable drinks while having a good time showing off your knowledge. Prizes for the top 3 scores!
URL:https://bevmain.org/event/not-your-mothers-trivia/2027-12-22/
LOCATION:Spear Post  331\, 3 Judson Street / Pond St entrance\, Beverly\, MA\, 01915\, United States
CATEGORIES:Free
ATTACH;FMTTYPE=image/jpeg:https://bevmain.org/wp-content/uploads/2026/04/4871.jpg
END:VEVENT
BEGIN:VEVENT
DTSTART;TZID=America/New_York:20271229T193000
DTEND;TZID=America/New_York:20271229T233000
DTSTAMP:20260425T000419
CREATED:20260424T161822Z
LAST-MODIFIED:20260424T161822Z
UID:10039290-1830108600-1830123000@bevmain.org
SUMMARY:Not Your Mother's Trivia
DESCRIPTION:Weekly trivia night with questions geared for ages 25+.\nCome on your own or grab some friends for a team. Enjoy delicious\, affordable drinks while having a good time showing off your knowledge. Prizes for the top 3 scores!
URL:https://bevmain.org/event/not-your-mothers-trivia/2027-12-29/
LOCATION:Spear Post  331\, 3 Judson Street / Pond St entrance\, Beverly\, MA\, 01915\, United States
CATEGORIES:Free
ATTACH;FMTTYPE=image/jpeg:https://bevmain.org/wp-content/uploads/2026/04/4871.jpg
END:VEVENT
BEGIN:VEVENT
DTSTART;TZID=America/New_York:20280105T193000
DTEND;TZID=America/New_York:20280105T233000
DTSTAMP:20260425T000419
CREATED:20260424T161822Z
LAST-MODIFIED:20260424T161822Z
UID:10039291-1830713400-1830727800@bevmain.org
SUMMARY:Not Your Mother's Trivia
DESCRIPTION:Weekly trivia night with questions geared for ages 25+.\nCome on your own or grab some friends for a team. Enjoy delicious\, affordable drinks while having a good time showing off your knowledge. Prizes for the top 3 scores!
URL:https://bevmain.org/event/not-your-mothers-trivia/2028-01-05/
LOCATION:Spear Post  331\, 3 Judson Street / Pond St entrance\, Beverly\, MA\, 01915\, United States
CATEGORIES:Free
ATTACH;FMTTYPE=image/jpeg:https://bevmain.org/wp-content/uploads/2026/04/4871.jpg
END:VEVENT
BEGIN:VEVENT
DTSTART;TZID=America/New_York:20280112T193000
DTEND;TZID=America/New_York:20280112T233000
DTSTAMP:20260425T000419
CREATED:20260424T161822Z
LAST-MODIFIED:20260424T161822Z
UID:10039292-1831318200-1831332600@bevmain.org
SUMMARY:Not Your Mother's Trivia
DESCRIPTION:Weekly trivia night with questions geared for ages 25+.\nCome on your own or grab some friends for a team. Enjoy delicious\, affordable drinks while having a good time showing off your knowledge. Prizes for the top 3 scores!
URL:https://bevmain.org/event/not-your-mothers-trivia/2028-01-12/
LOCATION:Spear Post  331\, 3 Judson Street / Pond St entrance\, Beverly\, MA\, 01915\, United States
CATEGORIES:Free
ATTACH;FMTTYPE=image/jpeg:https://bevmain.org/wp-content/uploads/2026/04/4871.jpg
END:VEVENT
BEGIN:VEVENT
DTSTART;TZID=America/New_York:20280119T193000
DTEND;TZID=America/New_York:20280119T233000
DTSTAMP:20260425T000419
CREATED:20260424T161822Z
LAST-MODIFIED:20260424T161822Z
UID:10039293-1831923000-1831937400@bevmain.org
SUMMARY:Not Your Mother's Trivia
DESCRIPTION:Weekly trivia night with questions geared for ages 25+.\nCome on your own or grab some friends for a team. Enjoy delicious\, affordable drinks while having a good time showing off your knowledge. Prizes for the top 3 scores!
URL:https://bevmain.org/event/not-your-mothers-trivia/2028-01-19/
LOCATION:Spear Post  331\, 3 Judson Street / Pond St entrance\, Beverly\, MA\, 01915\, United States
CATEGORIES:Free
ATTACH;FMTTYPE=image/jpeg:https://bevmain.org/wp-content/uploads/2026/04/4871.jpg
END:VEVENT
BEGIN:VEVENT
DTSTART;TZID=America/New_York:20280126T193000
DTEND;TZID=America/New_York:20280126T233000
DTSTAMP:20260425T000419
CREATED:20260424T161822Z
LAST-MODIFIED:20260424T161822Z
UID:10039294-1832527800-1832542200@bevmain.org
SUMMARY:Not Your Mother's Trivia
DESCRIPTION:Weekly trivia night with questions geared for ages 25+.\nCome on your own or grab some friends for a team. Enjoy delicious\, affordable drinks while having a good time showing off your knowledge. Prizes for the top 3 scores!
URL:https://bevmain.org/event/not-your-mothers-trivia/2028-01-26/
LOCATION:Spear Post  331\, 3 Judson Street / Pond St entrance\, Beverly\, MA\, 01915\, United States
CATEGORIES:Free
ATTACH;FMTTYPE=image/jpeg:https://bevmain.org/wp-content/uploads/2026/04/4871.jpg
END:VEVENT
BEGIN:VEVENT
DTSTART;TZID=America/New_York:20280202T193000
DTEND;TZID=America/New_York:20280202T233000
DTSTAMP:20260425T000419
CREATED:20260424T161822Z
LAST-MODIFIED:20260424T161822Z
UID:10039295-1833132600-1833147000@bevmain.org
SUMMARY:Not Your Mother's Trivia
DESCRIPTION:Weekly trivia night with questions geared for ages 25+.\nCome on your own or grab some friends for a team. Enjoy delicious\, affordable drinks while having a good time showing off your knowledge. Prizes for the top 3 scores!
URL:https://bevmain.org/event/not-your-mothers-trivia/2028-02-02/
LOCATION:Spear Post  331\, 3 Judson Street / Pond St entrance\, Beverly\, MA\, 01915\, United States
CATEGORIES:Free
ATTACH;FMTTYPE=image/jpeg:https://bevmain.org/wp-content/uploads/2026/04/4871.jpg
END:VEVENT
BEGIN:VEVENT
DTSTART;TZID=America/New_York:20280209T193000
DTEND;TZID=America/New_York:20280209T233000
DTSTAMP:20260425T000419
CREATED:20260424T161822Z
LAST-MODIFIED:20260424T161822Z
UID:10039296-1833737400-1833751800@bevmain.org
SUMMARY:Not Your Mother's Trivia
DESCRIPTION:Weekly trivia night with questions geared for ages 25+.\nCome on your own or grab some friends for a team. Enjoy delicious\, affordable drinks while having a good time showing off your knowledge. Prizes for the top 3 scores!
URL:https://bevmain.org/event/not-your-mothers-trivia/2028-02-09/
LOCATION:Spear Post  331\, 3 Judson Street / Pond St entrance\, Beverly\, MA\, 01915\, United States
CATEGORIES:Free
ATTACH;FMTTYPE=image/jpeg:https://bevmain.org/wp-content/uploads/2026/04/4871.jpg
END:VEVENT
BEGIN:VEVENT
DTSTART;TZID=America/New_York:20280216T193000
DTEND;TZID=America/New_York:20280216T233000
DTSTAMP:20260425T000419
CREATED:20260424T161822Z
LAST-MODIFIED:20260424T161822Z
UID:10039297-1834342200-1834356600@bevmain.org
SUMMARY:Not Your Mother's Trivia
DESCRIPTION:Weekly trivia night with questions geared for ages 25+.\nCome on your own or grab some friends for a team. Enjoy delicious\, affordable drinks while having a good time showing off your knowledge. Prizes for the top 3 scores!
URL:https://bevmain.org/event/not-your-mothers-trivia/2028-02-16/
LOCATION:Spear Post  331\, 3 Judson Street / Pond St entrance\, Beverly\, MA\, 01915\, United States
CATEGORIES:Free
ATTACH;FMTTYPE=image/jpeg:https://bevmain.org/wp-content/uploads/2026/04/4871.jpg
END:VEVENT
BEGIN:VEVENT
DTSTART;TZID=America/New_York:20280223T193000
DTEND;TZID=America/New_York:20280223T233000
DTSTAMP:20260425T000419
CREATED:20260424T161822Z
LAST-MODIFIED:20260424T161822Z
UID:10039298-1834947000-1834961400@bevmain.org
SUMMARY:Not Your Mother's Trivia
DESCRIPTION:Weekly trivia night with questions geared for ages 25+.\nCome on your own or grab some friends for a team. Enjoy delicious\, affordable drinks while having a good time showing off your knowledge. Prizes for the top 3 scores!
URL:https://bevmain.org/event/not-your-mothers-trivia/2028-02-23/
LOCATION:Spear Post  331\, 3 Judson Street / Pond St entrance\, Beverly\, MA\, 01915\, United States
CATEGORIES:Free
ATTACH;FMTTYPE=image/jpeg:https://bevmain.org/wp-content/uploads/2026/04/4871.jpg
END:VEVENT
BEGIN:VEVENT
DTSTART;TZID=America/New_York:20280301T193000
DTEND;TZID=America/New_York:20280301T233000
DTSTAMP:20260425T000419
CREATED:20260424T161822Z
LAST-MODIFIED:20260424T161822Z
UID:10039299-1835551800-1835566200@bevmain.org
SUMMARY:Not Your Mother's Trivia
DESCRIPTION:Weekly trivia night with questions geared for ages 25+.\nCome on your own or grab some friends for a team. Enjoy delicious\, affordable drinks while having a good time showing off your knowledge. Prizes for the top 3 scores!
URL:https://bevmain.org/event/not-your-mothers-trivia/2028-03-01/
LOCATION:Spear Post  331\, 3 Judson Street / Pond St entrance\, Beverly\, MA\, 01915\, United States
CATEGORIES:Free
ATTACH;FMTTYPE=image/jpeg:https://bevmain.org/wp-content/uploads/2026/04/4871.jpg
END:VEVENT
BEGIN:VEVENT
DTSTART;TZID=America/New_York:20280308T193000
DTEND;TZID=America/New_York:20280308T233000
DTSTAMP:20260425T000419
CREATED:20260424T161822Z
LAST-MODIFIED:20260424T161822Z
UID:10039300-1836156600-1836171000@bevmain.org
SUMMARY:Not Your Mother's Trivia
DESCRIPTION:Weekly trivia night with questions geared for ages 25+.\nCome on your own or grab some friends for a team. Enjoy delicious\, affordable drinks while having a good time showing off your knowledge. Prizes for the top 3 scores!
URL:https://bevmain.org/event/not-your-mothers-trivia/2028-03-08/
LOCATION:Spear Post  331\, 3 Judson Street / Pond St entrance\, Beverly\, MA\, 01915\, United States
CATEGORIES:Free
ATTACH;FMTTYPE=image/jpeg:https://bevmain.org/wp-content/uploads/2026/04/4871.jpg
END:VEVENT
BEGIN:VEVENT
DTSTART;TZID=America/New_York:20280315T193000
DTEND;TZID=America/New_York:20280315T233000
DTSTAMP:20260425T000419
CREATED:20260424T161822Z
LAST-MODIFIED:20260424T161822Z
UID:10039301-1836761400-1836775800@bevmain.org
SUMMARY:Not Your Mother's Trivia
DESCRIPTION:Weekly trivia night with questions geared for ages 25+.\nCome on your own or grab some friends for a team. Enjoy delicious\, affordable drinks while having a good time showing off your knowledge. Prizes for the top 3 scores!
URL:https://bevmain.org/event/not-your-mothers-trivia/2028-03-15/
LOCATION:Spear Post  331\, 3 Judson Street / Pond St entrance\, Beverly\, MA\, 01915\, United States
CATEGORIES:Free
ATTACH;FMTTYPE=image/jpeg:https://bevmain.org/wp-content/uploads/2026/04/4871.jpg
END:VEVENT
BEGIN:VEVENT
DTSTART;TZID=America/New_York:20280322T193000
DTEND;TZID=America/New_York:20280322T233000
DTSTAMP:20260425T000419
CREATED:20260424T161822Z
LAST-MODIFIED:20260424T161822Z
UID:10039302-1837366200-1837380600@bevmain.org
SUMMARY:Not Your Mother's Trivia
DESCRIPTION:Weekly trivia night with questions geared for ages 25+.\nCome on your own or grab some friends for a team. Enjoy delicious\, affordable drinks while having a good time showing off your knowledge. Prizes for the top 3 scores!
URL:https://bevmain.org/event/not-your-mothers-trivia/2028-03-22/
LOCATION:Spear Post  331\, 3 Judson Street / Pond St entrance\, Beverly\, MA\, 01915\, United States
CATEGORIES:Free
ATTACH;FMTTYPE=image/jpeg:https://bevmain.org/wp-content/uploads/2026/04/4871.jpg
END:VEVENT
BEGIN:VEVENT
DTSTART;TZID=America/New_York:20280329T193000
DTEND;TZID=America/New_York:20280329T233000
DTSTAMP:20260425T000419
CREATED:20260424T161822Z
LAST-MODIFIED:20260424T161822Z
UID:10039303-1837971000-1837985400@bevmain.org
SUMMARY:Not Your Mother's Trivia
DESCRIPTION:Weekly trivia night with questions geared for ages 25+.\nCome on your own or grab some friends for a team. Enjoy delicious\, affordable drinks while having a good time showing off your knowledge. Prizes for the top 3 scores!
URL:https://bevmain.org/event/not-your-mothers-trivia/2028-03-29/
LOCATION:Spear Post  331\, 3 Judson Street / Pond St entrance\, Beverly\, MA\, 01915\, United States
CATEGORIES:Free
ATTACH;FMTTYPE=image/jpeg:https://bevmain.org/wp-content/uploads/2026/04/4871.jpg
END:VEVENT
BEGIN:VEVENT
DTSTART;TZID=America/New_York:20280405T193000
DTEND;TZID=America/New_York:20280405T233000
DTSTAMP:20260425T000419
CREATED:20260424T161822Z
LAST-MODIFIED:20260424T161822Z
UID:10039304-1838575800-1838590200@bevmain.org
SUMMARY:Not Your Mother's Trivia
DESCRIPTION:Weekly trivia night with questions geared for ages 25+.\nCome on your own or grab some friends for a team. Enjoy delicious\, affordable drinks while having a good time showing off your knowledge. Prizes for the top 3 scores!
URL:https://bevmain.org/event/not-your-mothers-trivia/2028-04-05/
LOCATION:Spear Post  331\, 3 Judson Street / Pond St entrance\, Beverly\, MA\, 01915\, United States
CATEGORIES:Free
ATTACH;FMTTYPE=image/jpeg:https://bevmain.org/wp-content/uploads/2026/04/4871.jpg
END:VEVENT
END:VCALENDAR